Workbook

Sheet 표지
A3: 산 출 내 역 서
B6: =물량산출서!A3 -> [공사명] 통합사무실 구축에 따른 사무실 이전 공사
B8: [내역금액] : | D8: =원가계산서!E30 -> 19000000 | F8: (일금일천구백만원정)
A11: 2016 년 11월 22일

Sheet 원가계산서
A1: 공 사 원 가 계 산 서
A2: =물량산출서!B5 -> 벽체철거
A3: 구 분 | E3: 금 액 | F3: 구 성 비 | H3: 비 고
A5: 순공사원가 | B5: 재료비 | C5: 직 접 재 료 비 | E5: =내역서!F21 -> 4286463
C6: 간 접 재 료 비 | E6: 0
C7: 작 업 부 산 물 | E7: 0
C8: 소 계 | E8: =E5+E6-E7 -> 4286463
B9: 노무비 | C9: 직 접 노 무 비 | E9: =내역서!H21 -> 8192661
C10: 간 접 노 무 비 | E10: =E9*G10 -> 811073.44 | F10: 직접노무비 x | G10: 0.099
C11: 소 계 | E11: =INT(E9+E10) -> 9003734
B12: 경 비 | C12: 기 계 경 비
C13: 운 반 비
C14: 산 재 보 험 료 | E14: =E11*G14 -> 342141.89 | F14: 노무비 x | G14: 0.038
C15: 고 용 보 험 료 | E15: =E11*G15 -> 78332.486 | F15: 노무비 x | G15: 0.0087
C16: 연 금 보 험 료 | E16: 0 | F16: 직접노무비 x | G16: 0.0249
C17: 건 강 보 험 료 | E17: 0 | F17: 직접노무비 x | G17: 0.017
C18: 노인장기요양보험료 | E18: =INT(E17*G18) -> 0 | F18: 건강보험료 x | G18: 0.0655
C19: 환 경 보 전 비 | F19: (재료비+직노+산경) x | G19: 0.003
C20: 안 전 관 리 비 | F20: ((재료비 + 직접노무비+(관급자재비/1.1)) x | G20: 0.0248
C21: 기 타 경 비 | E21: =INT((E8+E11)*G21) -> 664509 | F21: (재료비 + 노무비) x | G21: 0.05
C22: 소 계 | E22: =INT(SUM(E12:E21)) -> 1084983
A23: 순 공 사 비 계 | E23: =E8+E11+E22 -> 14375180
A24: 일 반 관 리 비 | E24: =INT(E23*G24) -> 862510 | F24: (재료비 + 노무비 + 경비 ) x | G24: 0.06
A25: 이 윤 | E25: =INT((((E11+E22+E24)*15%)))-3646 -> 1639038 | F25: (노무비 + 경비 + 일반관리비) x | G25: 0.15
A26: 폐기물처리비 | E26: =내역서!F22 -> 396000
A27: 공 급 가 액 | E27: =SUM(E23:E26) -> 17272728
A28: 부 가 가 치 세 | E28: =INT(E27*G28) -> 1727272 | F28: 공급가액 x | G28: 0.1
A29: 도 급 액 | E29: =E27+E28 -> 19000000
A30: 총 공 사 비 | E30: =E29 -> 19000000

Sheet 내역서
A1: 내 역 서
A2: =물량산출서!A3 -> [공사명] 통합사무실 구축에 따른 사무실 이전 공사
A3: 연번 | B3: 공사명 | C3: 단위 | D3: 수 량 | E3: 재 료 비 | G3: 노 무 비 | I3: 경 비 | K3: 합 계 | M3: 비고
E4: 단 가 | F4: 금 액 | G4: 단 가 | H4: 금 액 | I4: 단 가 | J4: 금 액 | K4: 단 가 | L4: 금 액
B5: 벽체철거 | C5: m2 | D5: 96.6 | E5: =일위대가!F9 -> 692.886 | F5: =D5*E5 -> 66932.788 | G5: =일위대가!H9 -> 13857.72 | H5: =D5*G5 -> 1338655.8 | K5: =E5+G5 -> 14550.606 | L5: =F5+H5 -> 1405588.5
B6: =일위대가!A10 -> 석고보드 철거 | C6: m2 | D6: =물량산출서!F6 -> 193.2 | E6: =일위대가!F14 -> 194.8002 | F6: =D6*E6 -> 37635.399 | G6: =일위대가!H14 -> 3896.004 | H6: =D6*G6 -> 752707.97 | K6: =E6+G6 -> 4090.8042 | L6: =F6+H6 -> 790343.37
B7: 벽체철골틀신설 | C7: m2 | D7: 5.4 | E7: =일위대가!F22 -> 7820.0705 | F7: =D7*E7 -> 42228.381 | G7: =일위대가!H22 -> 63378.35 | H7: =D7*G7 -> 342243.09 | K7: =E7+G7 -> 71198.42 | L7: =F7+H7 -> 384471.47
B8: =일위대가!A23 -> 석고보드 시공(T=12.5) | C8: m2 | D8: =물량산출서!F8 -> 10.8 | E8: =일위대가!F29 -> 5952.5976 | F8: =D8*E8 -> 64288.055 | G8: =일위대가!H29 -> 11226.588 | H8: =D8*G8 -> 121247.15 | K8: =E8+G8 -> 17179.186 | L8: =F8+H8 -> 185535.2
B9: 천정틀철거 | C9: m2 | D9: 67.2 | E9: =일위대가!F34 -> 365.8557 | F9: =D9*E9 -> 24585.503 | G9: =일위대가!H34 -> 7317.114 | H9: =D9*G9 -> 491710.06 | K9: =E9+G9 -> 7682.9697 | L9: =F9+H9 -> 516295.56
B10: 천정설치 | C10: m2 | D10: 67.2 | E10: =일위대가!F54 -> 19376.41 | F10: =D10*E10 -> 1302094.8 | G10: =일위대가!H54 -> 34659.28 | H10: =D10*G10 -> 2329103.6 | K10: =E10+G10 -> 54035.69 | L10: =F10+H10 -> 3631198.4
B11: 악세스플로아철거 | C11: m2 | D11: =물량산출서!F9 -> 20.7 | E11: =일위대가!F59 -> 285.98713 | F11: =D11*E11 -> 5919.9336 | G11: =일위대가!H59 -> 5719.7426 | H11: =D11*G11 -> 118398.67 | K11: =E11+G11 -> 6005.7297 | L11: =F11+H11 -> 124318.61
B12: 악세스플로아설치 | C12: m2 | D12: =물량산출서!F10 -> 20.7 | E12: =가격조사표!D4 -> 75000 | F12: =D12*E12 -> 1552500 | H12: =D12*G12 -> 0 | K12: 75000 | L12: =F12+H12 -> 1552500
B13: 스프링클러이전설치 | C13: 개 | D13: 7 | E13: 20000 | F13: =D13*E13 -> 140000 | G13: =일위대가!H70 -> 16062.918 | H13: =D13*G13 -> 112440.43 | K13: =E13+G13 -> 36062.918 | L13: =F13+H13 -> 252440.43
B14: 디퓨자이전설치 | C14: 개 | D14: 5 | E14: =가격조사표!D9 -> 37000 | F14: =D14*E14 -> 185000 | G14: =일위대가!H72 -> 61027 | H14: =D14*G14 -> 305135 | K14: =E14+G14 -> 98027 | L14: =F14+H14 -> 490135
B15: 전등설치 | C15: 개 | D15: 24 | E15: 30000 | F15: =D15*E15 -> 720000 | G15: =일위대가!H77 -> 40653.558 | H15: =D15*G15 -> 975685.39 | K15: =E15+G15 -> 70653.558 | L15: =F15+H15 -> 1695685.4
B16: 방화문설치 | C16: 개 | D16: 1 | E16: =일위대가!F82 -> 126399.95 | F16: =D16*E16 -> 126399.95 | G16: =일위대가!H82 -> 53047.4 | H16: =D16*G16 -> 53047.4 | K16: =E16+G16 -> 179447.35 | L16: =F16+H16 -> 179447.35
B17: 도장공사 | C17: m2 | D17: 10.8 | E17: =일위대가!F88 -> 1037.776 | F17: =D17*E17 -> 11207.981 | G17: =일위대가!H88 -> 5583.312 | H17: =D17*G17 -> 60299.77 | K17: =E17+G17 -> 6621.088 | L17: =F17+H17 -> 71507.75
B18: =일위대가!A63 -> 철거자재운반(인력상하차) | C18: 톤 | D18: 4.5 | E18: =일위대가!F66 -> 0 | F18: =D18*E18 -> 0 | G18: =일위대가!H66 -> 36580.939 | H18: =D18*G18 -> 164614.23 | K18: =E18+G18 -> 36580.939 | L18: =F18+H18 -> 164614.23
B19: 유리벽철거 | C19: m2 | D19: =물량산출서!F18 -> 11.07 | E19: =E5 -> 692.886 | F19: =D19*E19 -> 7670.248 | G19: =G5 -> 13857.72 | H19: =D19*G19 -> 153404.96 | K19: =E19+G19 -> 14550.606 | L19: =F19+H19 -> 161075.21
B20: 준공청소 | C20: m2 | D20: 175 | F20: =D20*E20 -> 0 | G20: =일위대가!H91 -> 4994.1 | H20: =D20*G20 -> 873967.5 | K20: =E20+G20 -> 4994.1 | L20: =F20+H20 -> 873967.5
B21: 계 | F21: =SUM(F5:F20) -> 4286463 | H21: =SUM(H5:H20) -> 8192661 | L21: =F21+H21 -> 12479124
B22: 폐기물처리비 | C22: 톤 | D22: 4.5 | E22: =가격조사표!D7 -> 88000 | F22: =D22*E22 -> 396000 | H22: =D22*G22 -> 0 | K22: =E22+G22 -> 88000 | L22: =F22+H22 -> 396000

Sheet 일위대가
A1: 일 위 대 가
A2: =물량산출서!A3 -> [공사명] 통합사무실 구축에 따른 사무실 이전 공사
A3: 품 명 | B3: 규 격 | C3: 단위 | D3: 수량 | E3: 재 료 비 | G3: 노 무 비 | I3: 경 비 | K3: 합 계 | M3: 비 고
E4: 단 가 | F4: 금 액 | G4: 단 가 | H4: 금 액 | I4: 단 가 | J4: 금 액 | K4: 단 가 | L4: 금 액
A5: C형강 구조틀 철거 | B5: 벽체구조틀 T=50~100 | C5: ㎡ | L5: =F5+H5+J5 -> 0
A6: 용 접 공 | C6: 인 | D6: 0.068 | G6: 153849 | H6: =D6*G6 -> 10461.732 | K6: =E6+G6+I6 -> 153849 | L6: =F6+H6+J6 -> 10461.732
A7: 보통인부 | C7: 인 | D7: 0.034 | G7: 99882 | H7: =D7*G7 -> 3395.988 | K7: =E7+G7+I7 -> 99882 | L7: =F7+H7+J7 -> 3395.988
A8: 기 구 손 료 | B8: 인건비의 | C8: % | D8: 5 | F8: =H9*0.05 -> 692.886 | L8: =F8+H8+J8 -> 692.886
A9: 합 계 | D9: 0 | F9: =SUM(F5:F8) -> 692.886 | H9: =SUM(H5:H8) -> 13857.72 | L9: =F9+H9+J9 -> 14550.606
A10: 석고보드 철거 | B10: 벽체,2PLY | C10: ㎡ | D10: 0
A11: 특별인부 | C11: 인 | D11: 0.024 | G11: 120716 | H11: =D11*G11 -> 2897.184 | K11: =E11+G11+I11 -> 120716 | L11: =F11+H11+J11 -> 2897.184
A12: 보통인부 | C12: 인 | D12: 0.01 | G12: 99882 | H12: =D12*G12 -> 998.82 | K12: =E12+G12+I12 -> 99882 | L12: =F12+H12+J12 -> 998.82
A13: 기 구 손 료 | B13: 인건비의 | C13: % | D13: 5 | F13: =H14*0.05 -> 194.8002 | L13: =F13+H13+J13 -> 194.8002
A14: 합 계 | F14: =SUM(F10:F13) -> 194.8002 | H14: =SUM(H10:H13) -> 3896.004 | L14: =F14+H14+J14 -> 4090.8042
A15: 스틸 C형강 구조틀 | B15: 벽체,450*1500 | C15: ㎡
A16: 블랙 C 형강 | B16: 75x45x15x2.3t | C16: m | D16: 2.89 | E16: 2048 | F16: =D16*E16 -> 5918.72 | K16: =E16+G16+I16 -> 2048 | L16: =F16+H16+J16 -> 5918.72
A17: 철 공 | C17: 인 | D17: 0.2 | G17: 151564 | H17: =D17*G17 -> 30312.8 | K17: =E17+G17+I17 -> 151564 | L17: =F17+H17+J17 -> 30312.8
A18: 보통인부 | C18: 인 | D18: 0.1 | G18: 99882 | H18: =D18*G18 -> 9988.2 | K18: =E18+G18+I18 -> 99882 | L18: =F18+H18+J18 -> 9988.2
A19: 용 접 공 | C19: 인 | D19: 0.15 | G19: 153849 | H19: =D19*G19 -> 23077.35 | K19: =E19+G19+I19 -> 153849 | L19: =F19+H19+J19 -> 23077.35
A20: 잡 재 료 | B20: 인건비의 | C20: % | D20: 3
A21: 공 구 손 료 | B21: 인건비의 | C21: % | D21: 3 | F21: =H22*0.03 -> 1901.3505 | L21: =F21+H21+J21 -> 1901.3505
A22: 합 계 | F22: =SUM(F15:F21) -> 7820.0705 | H22: =SUM(H15:H21) -> 63378.35 | L22: =F22+H22+J22 -> 71198.42
A23: 석고보드 시공(T=12.5) | B23: 2PLY(벽체) | C23: ㎡
A24: 석고보드(일반) | B24: 9.5mm 900*2400 | C24: ㎡ | D24: 2.2 | E24: 1944 | F24: =D24*E24 -> 4276.8 | K24: =E24+G24+I24 -> 1944 | L24: =F24+H24+J24 -> 4276.8
A25: 스테인리스 못 | B25: 2.9*65 270개/kg | C25: kg | D25: 0.07 | E25: 14500 | F25: =D25*E25 -> 1015 | K25: =E25+G25+I25 -> 14500 | L25: =F25+H25+J25 -> 1015
A26: 접착제 | C26: ㎏ | D26: 0.27 | E26: 1200 | F26: =D26*E26 -> 324 | K26: =E26+G26+I26 -> 1200 | L26: =F26+H26+J26 -> 324
A27: 특별인부 | C27: 인 | D27: 0.093 | G27: 120716 | H27: =D27*G27 -> 11226.588 | K27: =E27+G27+I27 -> 120716 | L27: =F27+H27+J27 -> 11226.588
A28: 공 구 손 료 | B28: 노무비의 | C28: % | D28: 3 | F28: =H29*0.03 -> 336.79764 | G28: 0 | H28: =D28*G28 -> 0 | L28: =F28+H28+J28 -> 336.79764
A29: 합 계 | F29: =SUM(F23:F28) -> 5952.5976 | G29: 0 | H29: =SUM(H23:H28) -> 11226.588 | L29: =F29+H29+J29 -> 17179.186
A30: 경량철골 천정틀철거 | B30: M-Bar | C30: ㎡ | G30: 0
A31: 특별인부 | C31: 인 | D31: 0.03 | G31: 120716 | H31: =D31*G31 -> 3621.48 | K31: =E31+G31+I31 -> 120716 | L31: =F31+H31+J31 -> 3621.48
A32: 보통인부 | C32: 인 | D32: 0.037 | G32: 99882 | H32: =D32*G32 -> 3695.634 | K32: =E32+G32+I32 -> 99882 | L32: =F32+H32+J32 -> 3695.634
A33: 기 구 손 료 | B33: 인건비의 | C33: % | D33: 5 | F33: =H34*0.05 -> 365.8557 | G33: 0 | L33: =F33+H33+J33 -> 365.8557
A34: 합 계 | D34: 0 | F34: =SUM(F30:F33) -> 365.8557 | G34: 0 | H34: =SUM(H30:H33) -> 7317.114 | L34: =F34+H34+J34 -> 7682.9697
A35: 텍스철거 | B35: 천정 | C35: ㎡ | D35: 0 | G35: 0
A36: 건축목공 | C36: 인 | D36: 0.015 | G36: 158297 | H36: =D36*G36 -> 2374.455 | K36: =E36+G36+I36 -> 158297 | L36: =F36+H36+J36 -> 2374.455
A37: 보통인부 | C37: 인 | D37: 0.03 | G37: 99882 | H37: =D37*G37 -> 2996.46 | K37: =E37+G37+I37 -> 99882 | L37: =F37+H37+J37 -> 2996.46
A38: 합 계 | D38: 0 | G38: 0 | H38: =SUM(H35:H37) -> 5370.915 | L38: =F38+H38+J38 -> 5370.915
A39: 경량철골 천정틀(텍스설치품포함) | B39: T-BAR | C39: ㎡
A40: 마이톤 | B40: MS-2110 T-BAR 15*603*603 | C40: ㎡ | D40: 1 | E40: =가격조사표!D6 -> 10900 | F40: =D40*E40 -> 10900 | K40: =E40+G40+I40 -> 10900 | L40: =F40+H40+J40 -> 10900
A41: 인서트 앵커 | B41: 3/8＂ 9mm | C41: 개 | D41: 1.362 | E41: 300 | F41: =D41*E41 -> 408.6 | K41: =E41+G41+I41 -> 300 | L41: =F41+H41+J41 -> 408.6
A42: 달대볼트 HDG | B42: 9￠*1000L | C42: 개 | D42: 1.362 | E42: 878 | F42: =D42*E42 -> 1195.836 | K42: =E42+G42+I42 -> 878 | L42: =F42+H42+J42 -> 1195.836
A43: 케링 찬넬(CARRING CHAN,L) 천정용 | B43: ㉿ 38*12*1.2 | C43: m | D43: 1.222 | E43: 1250 | F43: =D43*E43 -> 1527.5 | K43: =E43+G43+I43 -> 1250 | L43: =F43+H43+J43 -> 1527.5
A44: 마이너찬넬 | B44: 19*10*1.2T | C44: m | D44: 0.525 | E44: 397 | F44: =D44*E44 -> 208.425 | K44: =E44+G44+I44 -> 397 | L44: =F44+H44+J44 -> 208.425
A45: 행거및핀(HANGER & PIN) 천정용 | B45: L:100mm | C45: 개 | D45: 1.362 | E45: 250 | F45: =D45*E45 -> 340.5 | K45: =E45+G45+I45 -> 250 | L45: =F45+H45+J45 -> 340.5
A46: 찬넬 크립 | B46: 34*34*1.2 | C46: 개 | D46: 0.584 | E46: 106 | F46: =D46*E46 -> 61.904 | K46: =E46+G46+I46 -> 106 | L46: =F46+H46+J46 -> 61.904
A47: 케링조인트 | B47: 90*40*13*0.5 | C47: 개 | D47: 0.195 | E47: 127 | F47: =D47*E47 -> 24.765 | K47: =E47+G47+I47 -> 127 | L47: =F47+H47+J47 -> 24.765
A48: T-BAR(ST'L) | B48: ㉿ 25*25*0.4 | C48: m | D48: 3.36 | E48: 1180 | F48: =D48*E48 -> 3964.8 | K48: =E48+G48+I48 -> 1180 | L48: =F48+H48+J48 -> 3964.8
A49: BAR 크립 | B49: 34*38*47*0.45T | C49: 개 | D49: 2.04 | E49: 52 | F49: =D49*E49 -> 106.08 | K49: =E49+G49+I49 -> 52 | L49: =F49+H49+J49 -> 106.08
A50: 연결철물 | C50: 개 | D50: 5.86 | E50: 100 | F50: =D50*E50 -> 586 | K50: =E50+G50+I50 -> 100 | L50: =F50+H50+J50 -> 586
A51: 내 장 공 | C51: 인 | D51: 0.221 | G51: 150050 | H51: =D51*G51 -> 33161.05 | K51: =E51+G51+I51 -> 150050 | L51: =F51+H51+J51 -> 33161.05
A52: 보통인부 | C52: 인 | D52: 0.015 | G52: 99882 | H52: =D52*G52 -> 1498.23 | K52: =E52+G52+I52 -> 99882 | L52: =F52+H52+J52 -> 1498.23
A53: 공구손료 | B53: 인건비의 % | C53: % | D53: 6 | F53: 52 | K53: =F53+G53+I53 -> 52 | L53: =#REF!+H53+J53 -> #REF!
A54: 합 계 | F54: =SUM(F39:F53) -> 19376.41 | H54: =SUM(H39:H53) -> 34659.28 | L54: =F54+H54+J54 -> 54035.69
A55: 엑세스 플로어 철거 | B55: H=500 | C55: 엑세스 플로어 설치 | D55: 0 | L55: =F55+H55+J55 -> 0
A56: 내 장 공 | C56: 인 | D56: 0.0286 | G56: 150050 | H56: =D56*G56 -> 4291.43 | K56: =E56+G56+I56 -> 150050 | L56: =F56+H56+J56 -> 4291.43
A57: 보통인부 | C57: 인 | D57: 0.0143 | G57: 99882 | H57: =D57*G57 -> 1428.3126 | K57: =E57+G57+I57 -> 99882 | L57: =F57+H57+J57 -> 1428.3126
A58: 기 구 손 료 | B58: 인건비의 | C58: % | D58: 5 | F58: =H59*0.05 -> 285.98713 | L58: =F58+H58+J58 -> 285.98713
A59: 합 계 | F59: =SUM(F55:F58) -> 285.98713 | H59: =SUM(H55:H58) -> 5719.7426 | L59: =F59+H59+J59 -> 6005.7297
A60: 엑세스 플로어 설치
A61: 엑세스 플로어 설치 | B61: 설치비포함 | C61: =C35 -> ㎡ | D61: 1 | E61: 75000 | F61: =D61*E61 -> 75000 | L61: =F61+H61+J61 -> 75000
A62: 합 계 | F62: =SUM(F61) -> 75000 | L62: =F62+H62+J62 -> 75000
A63: 철거자재운반(인력상하차) | B63: 2.5ton 트럭 | C63: ton
A64: 덤프트럭 [CM158.8] | B64: 2.5ton [Q=0.940] | C64: Hr | D64: 1.0637 | G64: 26043 | H64: =D64*G64 -> 27701.939 | K64: =E64+G64+I64 -> 26043 | L64: =F64+H64+J64 -> 27701.939
A65: 상하차비 (인부2인) | B65: 인력 (20/450*2) | C65: 식 | D65: 1 | G65: 8879 | H65: =D65*G65 -> 8879 | K65: =E65+G65+I65 -> 8879 | L65: =F65+H65+J65 -> 8879
A66: 합 계 | H66: =SUM(H63:H65) -> 36580.939 | L66: =F66+H66+J66 -> 36580.939
A67: 스프링클러 헤드설치 | C67: 개당
A68: 노 무 비 | B68: 배 관 공 | C68: 인 | D68: 0.092 | G68: 134427 | H68: =D68*G68 -> 12367.284 | K68: =E68+G68+I68 -> 134427 | L68: =F68+H68+J68 -> 12367.284
A69: 노 무 비 | B69: 보통인부 | C69: 인 | D69: 0.037 | G69: 99882 | H69: =D69*G69 -> 3695.634 | K69: =E69+G69+I69 -> 99882 | L69: =F69+H69+J69 -> 3695.634
A70: 합 계 | H70: =SUM(H67:H69) -> 16062.918 | L70: =F70+H70+J70 -> 16062.918
A71: 디퓨저설치
A72: 덕트공 | C72: 인 | D72: 0.5 | G72: 122054 | H72: =D72*G72 -> 61027 | K72: =E72+G72+I72 -> 122054 | L72: =F72+H72+J72 -> 61027
A73: 합 계 | H73: =SUM(H71:H72) -> 61027 | L73: =F73+H73+J73 -> 61027
A74: 형광등 기구 설치(매입및반매입형) | B74: 40W 이하*2 | C74: 등당
A75: 형광등 | B75: 32Wx2 | C75: 개 | D75: 1 | E75: 55000 | F75: =D75*E75 -> 55000 | K75: =E75+G75+I75 -> 55000 | L75: =F75+H75+J75 -> 55000
A76: 노 무 비 | B76: 내선전공 | C76: 인 | D76: 0.226 | G76: 179883 | H76: =D76*G76 -> 40653.558 | K76: =E76+G76+I76 -> 179883 | L76: =F76+H76+J76 -> 40653.558
A77: 합 계 | F77: =SUM(F74:F76) -> 55000 | H77: =SUM(H74:H76) -> 40653.558 | L77: =F77+H77+J77 -> 95653.558
A78: 도어 설치/강제문(Steel Door) | B78: T=33, 900*2100mm 기준 | C78: 개
A79: 도어(Door) | B79: (종류,규격별) | C79: 개 | D79: 1 | E79: =가격조사표!D8 -> 125339 | F79: =D79*E79 -> 125339 | K79: =E79+G79+I79 -> 125339 | L79: =F79+H79+J79 -> 125339
A80: 철 공 | C80: 인 | D80: 0.35 | G80: 151564 | H80: =D80*G80 -> 53047.4 | K80: =E80+G80+I80 -> 151564 | L80: =F80+H80+J80 -> 53047.4
A81: 공 구 손 료 | B81: 인건비의 | C81: % | D81: 2 | F81: =H82*0.02 -> 1060.948 | L81: =F81+H81+J81 -> 1060.948
A82: 합 계 | F82: =SUM(F78:F81) -> 126399.95 | H82: =SUM(H78:H81) -> 53047.4 | L82: =F82+H82+J82 -> 179447.35
A83: 수성페인트-벽체 | B83: 3회(롤러칠) | C83: ㎡ | L83: =F83+H83+J83 -> 0
A84: 수성페인트 백색 | B84: KSM6010-1급내부 | C84: ℓ | D84: 0.296 | E84: 3506 | F84: =D84*E84 -> 1037.776 | G84: 0 | H84: =D84*G84 -> 0 | K84: =E84+G84+I84 -> 3506 | L84: =F84+H84+J84 -> 1037.776
A85: 소모재료비 | B85: 주자재비의 | C85: % | D85: 5 | G85: 0 | H85: =D85*G85 -> 0
A86: 도 장 공 | B86: 0.012*3= | C86: 인 | D86: 0.036 | G86: 138445 | H86: =D86*G86 -> 4984.02 | K86: =E86+G86+I86 -> 138445 | L86: =F86+H86+J86 -> 4984.02
A87: 보통인부 | B87: 0.002*3= | C87: 인 | D87: 0.006 | G87: 99882 | H87: =D87*G87 -> 599.292 | K87: =E87+G87+I87 -> 99882 | L87: =F87+H87+J87 -> 599.292
A88: 합 계 | F88: =SUM(F83:F87) -> 1037.776 | H88: =SUM(H83:H87) -> 5583.312 | L88: =F88+H88+J88 -> 6621.088
A89: 준공 청소 | B89: 1회 기준 | C89: ㎡
A90: 보통인부 | C90: 인 | D90: 0.05 | G90: 99882 | H90: =D90*G90 -> 4994.1 | K90: 99882 | L90: 4994
A91: 합 계 | H91: =SUM(H89:H90) -> 4994.1 | L91: 4994

Sheet 가격조사표
A1: 가 격 조 사 표
A2: =물량산출서!A3 -> [공사명] 통합사무실 구축에 따른 사무실 이전 공사
A3: 품명 | B3: 규격 | C3: 단위 | D3: 적용단가 | E3: 물가자료 (page) | F3: 물가정보 (page) | G3: 거래가격 (page | H3: 비고
A4: O A FLOOR(시공비포함) | B4: LPD Type( H:50∼150) | C4: ㎡ | D4: 75000 | E4: 75,000 (P659) | F4: 75,000 (P377) | G4: 0
A5: 형광등 매입개방 | B5: FL 32W*2 | C5: 등 | D5: 55000 | E5: 0 | F5: 0 | G5: 55,000 (P1075)
A6: 마이톤 | B6: MS-2110 T-BAR 15*603*603 | C6: ㎡ | D6: 10900 | E6: 12,000 (P692) | F6: 12,000 (P357) | G6: 10,900 (P627)
A7: 방치폐기물처리(수집,운반,중간,최종처리업) | B7: 매립대상 사업장일반폐기물 | C7: 톤 | D7: 88000 | E7: 0 | F7: 0 | G7: 0
A8: 민자방화문 (시공비별도) | B8: 900*2100 사비 | C8: 조 | D8: 125339 | E8: 0 | F8: 0 | G8: 0
A9: 노즐디퓨자 | B9: AL 250A | C9: 개 | D9: 37000 | E9: 0 | F9: 0 | G9: 37000

Sheet 물량산출서
A1: 물 량 산 출 서
A3: [공사명] 통합사무실 구축에 따른 사무실 이전 공사
A4: 연번 | B4: 공사명 | C4: 공사종류 | D4: 단위 | E4: 산출근거 | F4: 수량 | G4: 비고
B5: 벽체철거 | D5: m2 | E5: 23*4.2 | F5: =23*4.2 -> 96.6
B6: 석고보드철거 | D6: m2 | E6: 23*4.2*2 | F6: =23*4.2*2 -> 193.2
B7: 벽체신설 | C7: 벽체각파이프틀 설치 | D7: m2 | E7: 2.0*2.7 | F7: =2*2.7 -> 5.4
B8: 석고보드설치 | D8: m2 | E8: 2.0*2.7*2 | F8: =2*2.7*2 -> 10.8
B9: 악세스플로아철거 | D9: m2 | E9: 23*0.9 | F9: =23*0.9 -> 20.7
B10: 악세스플로아설치 | D10: m2 | E10: 23*0.9 | F10: 20.7
B11: 천정틀철거 | D11: m2 | E11: 17*2+5*4 | F11: =17*2+5*4 -> 54
B12: 천정설치 | D12: m2 | E12: 17*2+5*4 | F12: 54
B13: 스프링클러이전설치 | D13: 개 | E13: 7 | F13: 7
B14: 디퓨자이전설치 | D14: 개 | E14: 5 | F14: 5
B15: 전등설치 | D15: 개 | E15: 13 | F15: 13
B16: 방화문설치 | D16: 개 | E16: 1 | F16: 1
B17: 도장공사 | D17: m2 | E17: 2.0*2.7*2 | F17: =2*2.7*2 -> 10.8
B18: 유리벽체철거 | D18: m2 | E18: 4.1*2.7 | F18: =4.1*2.7 -> 11.07
B19: 준공청소 | D19: m2 | E19: 6*20.5+17*2+4.5*4 | F19: =6*20.5+17*2+4.5*4 -> 175
